Workbook

Sheet Takvim
A1: Hafta | B1: Tarih | C1: Gün | D1: Saat | E1: Platform | F1: Format | G1: İçerik sütunu | H1: Konu / başlık | I1: Metin taslağı | J1: Görsel / video linki | K1: CTA | L1: Hashtag | M1: Hazırlayan | N1: Onaylayan | O1: Durum | P1: Yayın linki | Q1: Erişim | R1: Beğeni | S1: Yorum | T1: Paylaşım | U1: Kaydetme | V1: Tıklama | W1: Etkileşim oranı | X1: Not
A2: 1 | B2: 46328 | C2: Pazartesi | D2: 10:00 | E2: Instagram | F2: Carousel | G2: Eğitici | H2: Örnek: 3 adımda ... | O2: Taslak | W2: =IF(Q2>0,(R2+S2+T2)/Q2,"")
A3: 1 | B3: 46330 | C3: Çarşamba | D3: 10:00 | E3: Instagram | F3: Reels | G3: Ürün / hizmet | H3: Örnek: ürün nasıl kullanılır | O3: Taslak | W3: =IF(Q3>0,(R3+S3+T3)/Q3,"")
A4: 1 | B4: 46332 | C4: Cuma | D4: 10:00 | E4: LinkedIn | F4: Gönderi | G4: Sektör haberi | H4: Örnek: ayın sektör notu | O4: Taslak | W4: =IF(Q4>0,(R4+S4+T4)/Q4,"")
A5: 2 | B5: 46335 | C5: Pazartesi | D5: 10:00 | E5: Instagram | F5: Carousel | G5: Eğitici | H5: Örnek: 3 adımda ... | O5: Taslak | W5: =IF(Q5>0,(R5+S5+T5)/Q5,"")
A6: 2 | B6: 46337 | C6: Çarşamba | D6: 10:00 | E6: Instagram | F6: Reels | G6: Ürün / hizmet | H6: Örnek: ürün nasıl kullanılır | O6: Taslak | W6: =IF(Q6>0,(R6+S6+T6)/Q6,"")
A7: 2 | B7: 46339 | C7: Cuma | D7: 10:00 | E7: LinkedIn | F7: Gönderi | G7: Sektör haberi | H7: Örnek: ayın sektör notu | O7: Taslak | W7: =IF(Q7>0,(R7+S7+T7)/Q7,"")
A8: 3 | B8: 46342 | C8: Pazartesi | D8: 10:00 | E8: Instagram | F8: Carousel | G8: Eğitici | H8: Örnek: 3 adımda ... | O8: Taslak | W8: =IF(Q8>0,(R8+S8+T8)/Q8,"")
A9: 3 | B9: 46344 | C9: Çarşamba | D9: 10:00 | E9: Instagram | F9: Reels | G9: Ürün / hizmet | H9: Örnek: ürün nasıl kullanılır | O9: Taslak | W9: =IF(Q9>0,(R9+S9+T9)/Q9,"")
A10: 3 | B10: 46346 | C10: Cuma | D10: 10:00 | E10: LinkedIn | F10: Gönderi | G10: Sektör haberi | H10: Örnek: ayın sektör notu | O10: Taslak | W10: =IF(Q10>0,(R10+S10+T10)/Q10,"")
A11: 4 | B11: 46349 | C11: Pazartesi | D11: 10:00 | E11: Instagram | F11: Carousel | G11: Eğitici | H11: Örnek: 3 adımda ... | O11: Taslak | W11: =IF(Q11>0,(R11+S11+T11)/Q11,"")
A12: 4 | B12: 46351 | C12: Çarşamba | D12: 10:00 | E12: Instagram | F12: Reels | G12: Ürün / hizmet | H12: Örnek: ürün nasıl kullanılır | O12: Taslak | W12: =IF(Q12>0,(R12+S12+T12)/Q12,"")
A13: 4 | B13: 46353 | C13: Cuma | D13: 10:00 | E13: LinkedIn | F13: Gönderi | G13: Sektör haberi | H13: Örnek: ayın sektör notu | O13: Taslak | W13: =IF(Q13>0,(R13+S13+T13)/Q13,"")
W14: =IF(Q14>0,(R14+S14+T14)/Q14,"")
W15: =IF(Q15>0,(R15+S15+T15)/Q15,"")
W16: =IF(Q16>0,(R16+S16+T16)/Q16,"")
W17: =IF(Q17>0,(R17+S17+T17)/Q17,"")
W18: =IF(Q18>0,(R18+S18+T18)/Q18,"")
W19: =IF(Q19>0,(R19+S19+T19)/Q19,"")
W20: =IF(Q20>0,(R20+S20+T20)/Q20,"")
W21: =IF(Q21>0,(R21+S21+T21)/Q21,"")
W22: =IF(Q22>0,(R22+S22+T22)/Q22,"")
W23: =IF(Q23>0,(R23+S23+T23)/Q23,"")
W24: =IF(Q24>0,(R24+S24+T24)/Q24,"")
W25: =IF(Q25>0,(R25+S25+T25)/Q25,"")
... W200: =IF(Q200>0,(R200+S200+T200)/Q200,"")

Sheet İçerik sütunları
A1: İçerik sütunu | B1: Hedef oran | C1: Ne anlatır | D1: Örnek konu
A2: Eğitici | B2: 0.3 | C2: Müşterinin sorduğu soruların cevabı | D2: Sık sorulan 3 soru
A3: Ürün / hizmet | B3: 0.2 | C3: Ne sattığınız, nasıl çalıştığı, fiyat aralığı | D3: Hizmet adım adım
A4: Kullanıcı deneyimi | B4: 0.2 | C4: Müşteri yorumu, öncesi/sonrası, vaka (izinli) | D4: Bir müşterinin sonucu
A5: Sektör haberi | B5: 0.15 | C5: Sektördeki değişiklik ve sizin yorumunuz | D5: Ayın sektör notu
A6: Eğlence / topluluk | B6: 0.15 | C6: Ekip, kamera arkası, anket | D6: Ofisten bir gün
A21: Toplam (hedef %100) | B21: =SUM(B2:B20)

Sheet Özel günler
A1: Tarih | B1: Gün | C1: Özel gün | D1: Hazırlığa başla (3 hafta önce) | E1: Not
A2: 46336 | B2: Salı | C2: 10 Kasım Atatürk'ü Anma Günü | D2: 46315 | E2: Kampanya ve indirim paylaşımı yapılmaz
A3: 46350 | B3: Salı | C3: Öğretmenler Günü | D3: 46329
A4: 46353 | B4: Cuma | C4: Black Friday (Kasım'ın son cuması) | D4: 46332 | E4: E-ticaret için yılın en yoğun haftası
A5: 46388 | B5: Cuma | C5: Yılbaşı | D5: 46367
A6: 46432 | B6: Pazar | C6: Sevgililer Günü | D6: 46411
A7: 46454 | B7: Pazartesi | C7: Dünya Kadınlar Günü | D7: 46433
A8: 46500 | B8: Cuma | C8: 23 Nisan Ulusal Egemenlik ve Çocuk Bayramı | D8: 46479
A9: 46508 | B9: Cumartesi | C9: 1 Mayıs Emek ve Dayanışma Günü | D9: 46487
A10: 46516 | B10: Pazar | C10: Anneler Günü (Mayıs'ın 2. pazarı) | D10: 46495
A11: 46526 | B11: Çarşamba | C11: 19 Mayıs Atatürk'ü Anma, Gençlik ve Spor Bayramı | D11: 46505
A12: 46558 | B12: Pazar | C12: Babalar Günü (Haziran'ın 3. pazarı) | D12: 46537
A13: 46583 | B13: Perşembe | C13: 15 Temmuz Demokrasi ve Millî Birlik Günü | D13: 46562
A14: 46629 | B14: Pazartesi | C14: 30 Ağustos Zafer Bayramı | D14: 46608
A15: 46689 | B15: Cuma | C15: 29 Ekim Cumhuriyet Bayramı | D15: 46668
C17: Ramazan ve Kurban Bayramı: tarihleri her yıl değişir; Diyanet İşleri Başkanlığı takviminden ekleyin.

Sheet Haftalık özet
A1: Hafta | B1: Planlanan | C1: Yayınlanan | D1: Toplam erişim | E1: Toplam etkileşim | F1: Etkileşim oranı | G1: Toplam tıklama | H1: Bu hafta öğrendiğimiz
A2: 1 | B2: =COUNTIFS(Takvim!A:A,A2,Takvim!O:O,"<>İptal") | C2: =COUNTIFS(Takvim!A:A,A2,Takvim!O:O,"Yayınlandı") | D2: =SUMIFS(Takvim!Q:Q,Takvim!A:A,A2) | E2: =SUMIFS(Takvim!R:R,Takvim!A:A,A2)+SUMIFS(Takvim!S:S,Takvim!A:A,A2)+SUMIFS(Takvim!T:T,Takvim!A:A,A2) | F2: =IF(D2>0,E2/D2,"") | G2: =SUMIFS(Takvim!V:V,Takvim!A:A,A2)
A3: 2 | B3: =COUNTIFS(Takvim!A:A,A3,Takvim!O:O,"<>İptal") | C3: =COUNTIFS(Takvim!A:A,A3,Takvim!O:O,"Yayınlandı") | D3: =SUMIFS(Takvim!Q:Q,Takvim!A:A,A3) | E3: =SUMIFS(Takvim!R:R,Takvim!A:A,A3)+SUMIFS(Takvim!S:S,Takvim!A:A,A3)+SUMIFS(Takvim!T:T,Takvim!A:A,A3) | F3: =IF(D3>0,E3/D3,"") | G3: =SUMIFS(Takvim!V:V,Takvim!A:A,A3)
A4: 3 | B4: =COUNTIFS(Takvim!A:A,A4,Takvim!O:O,"<>İptal") | C4: =COUNTIFS(Takvim!A:A,A4,Takvim!O:O,"Yayınlandı") | D4: =SUMIFS(Takvim!Q:Q,Takvim!A:A,A4) | E4: =SUMIFS(Takvim!R:R,Takvim!A:A,A4)+SUMIFS(Takvim!S:S,Takvim!A:A,A4)+SUMIFS(Takvim!T:T,Takvim!A:A,A4) | F4: =IF(D4>0,E4/D4,"") | G4: =SUMIFS(Takvim!V:V,Takvim!A:A,A4)
A5: 4 | B5: =COUNTIFS(Takvim!A:A,A5,Takvim!O:O,"<>İptal") | C5: =COUNTIFS(Takvim!A:A,A5,Takvim!O:O,"Yayınlandı") | D5: =SUMIFS(Takvim!Q:Q,Takvim!A:A,A5) | E5: =SUMIFS(Takvim!R:R,Takvim!A:A,A5)+SUMIFS(Takvim!S:S,Takvim!A:A,A5)+SUMIFS(Takvim!T:T,Takvim!A:A,A5) | F5: =IF(D5>0,E5/D5,"") | G5: =SUMIFS(Takvim!V:V,Takvim!A:A,A5)
A6: 5 | B6: =COUNTIFS(Takvim!A:A,A6,Takvim!O:O,"<>İptal") | C6: =COUNTIFS(Takvim!A:A,A6,Takvim!O:O,"Yayınlandı") | D6: =SUMIFS(Takvim!Q:Q,Takvim!A:A,A6) | E6: =SUMIFS(Takvim!R:R,Takvim!A:A,A6)+SUMIFS(Takvim!S:S,Takvim!A:A,A6)+SUMIFS(Takvim!T:T,Takvim!A:A,A6) | F6: =IF(D6>0,E6/D6,"") | G6: =SUMIFS(Takvim!V:V,Takvim!A:A,A6)
A7: 6 | B7: =COUNTIFS(Takvim!A:A,A7,Takvim!O:O,"<>İptal") | C7: =COUNTIFS(Takvim!A:A,A7,Takvim!O:O,"Yayınlandı") | D7: =SUMIFS(Takvim!Q:Q,Takvim!A:A,A7) | E7: =SUMIFS(Takvim!R:R,Takvim!A:A,A7)+SUMIFS(Takvim!S:S,Takvim!A:A,A7)+SUMIFS(Takvim!T:T,Takvim!A:A,A7) | F7: =IF(D7>0,E7/D7,"") | G7: =SUMIFS(Takvim!V:V,Takvim!A:A,A7)
A8: 7 | B8: =COUNTIFS(Takvim!A:A,A8,Takvim!O:O,"<>İptal") | C8: =COUNTIFS(Takvim!A:A,A8,Takvim!O:O,"Yayınlandı") | D8: =SUMIFS(Takvim!Q:Q,Takvim!A:A,A8) | E8: =SUMIFS(Takvim!R:R,Takvim!A:A,A8)+SUMIFS(Takvim!S:S,Takvim!A:A,A8)+SUMIFS(Takvim!T:T,Takvim!A:A,A8) | F8: =IF(D8>0,E8/D8,"") | G8: =SUMIFS(Takvim!V:V,Takvim!A:A,A8)
A9: 8 | B9: =COUNTIFS(Takvim!A:A,A9,Takvim!O:O,"<>İptal") | C9: =COUNTIFS(Takvim!A:A,A9,Takvim!O:O,"Yayınlandı") | D9: =SUMIFS(Takvim!Q:Q,Takvim!A:A,A9) | E9: =SUMIFS(Takvim!R:R,Takvim!A:A,A9)+SUMIFS(Takvim!S:S,Takvim!A:A,A9)+SUMIFS(Takvim!T:T,Takvim!A:A,A9) | F9: =IF(D9>0,E9/D9,"") | G9: =SUMIFS(Takvim!V:V,Takvim!A:A,A9)
A10: 9 | B10: =COUNTIFS(Takvim!A:A,A10,Takvim!O:O,"<>İptal") | C10: =COUNTIFS(Takvim!A:A,A10,Takvim!O:O,"Yayınlandı") | D10: =SUMIFS(Takvim!Q:Q,Takvim!A:A,A10) | E10: =SUMIFS(Takvim!R:R,Takvim!A:A,A10)+SUMIFS(Takvim!S:S,Takvim!A:A,A10)+SUMIFS(Takvim!T:T,Takvim!A:A,A10) | F10: =IF(D10>0,E10/D10,"") | G10: =SUMIFS(Takvim!V:V,Takvim!A:A,A10)
A11: 10 | B11: =COUNTIFS(Takvim!A:A,A11,Takvim!O:O,"<>İptal") | C11: =COUNTIFS(Takvim!A:A,A11,Takvim!O:O,"Yayınlandı") | D11: =SUMIFS(Takvim!Q:Q,Takvim!A:A,A11) | E11: =SUMIFS(Takvim!R:R,Takvim!A:A,A11)+SUMIFS(Takvim!S:S,Takvim!A:A,A11)+SUMIFS(Takvim!T:T,Takvim!A:A,A11) | F11: =IF(D11>0,E11/D11,"") | G11: =SUMIFS(Takvim!V:V,Takvim!A:A,A11)
A12: 11 | B12: =COUNTIFS(Takvim!A:A,A12,Takvim!O:O,"<>İptal") | C12: =COUNTIFS(Takvim!A:A,A12,Takvim!O:O,"Yayınlandı") | D12: =SUMIFS(Takvim!Q:Q,Takvim!A:A,A12) | E12: =SUMIFS(Takvim!R:R,Takvim!A:A,A12)+SUMIFS(Takvim!S:S,Takvim!A:A,A12)+SUMIFS(Takvim!T:T,Takvim!A:A,A12) | F12: =IF(D12>0,E12/D12,"") | G12: =SUMIFS(Takvim!V:V,Takvim!A:A,A12)
A13: 12 | B13: =COUNTIFS(Takvim!A:A,A13,Takvim!O:O,"<>İptal") | C13: =COUNTIFS(Takvim!A:A,A13,Takvim!O:O,"Yayınlandı") | D13: =SUMIFS(Takvim!Q:Q,Takvim!A:A,A13) | E13: =SUMIFS(Takvim!R:R,Takvim!A:A,A13)+SUMIFS(Takvim!S:S,Takvim!A:A,A13)+SUMIFS(Takvim!T:T,Takvim!A:A,A13) | F13: =IF(D13>0,E13/D13,"") | G13: =SUMIFS(Takvim!V:V,Takvim!A:A,A13)
... A53: 52 | B53: =COUNTIFS(Takvim!A:A,A53,Takvim!O:O,"<>İptal") | C53: =COUNTIFS(Takvim!A:A,A53,Takvim!O:O,"Yayınlandı") | D53: =SUMIFS(Takvim!Q:Q,Takvim!A:A,A53) | E53: =SUMIFS(Takvim!R:R,Takvim!A:A,A53)+SUMIFS(Takvim!S:S,Takvim!A:A,A53)+SUMIFS(Takvim!T:T,Takvim!A:A,A53) | F53: =IF(D53>0,E53/D53,"") | G53: =SUMIFS(Takvim!V:V,Takvim!A:A,A53)
